BEGIN:VCALENDAR
VERSION:2.0
PRODID:-//Informacitta.net - ECPv6.15.20//NONSGML v1.0//EN
CALSCALE:GREGORIAN
METHOD:PUBLISH
X-ORIGINAL-URL:https://www.informacitta.net
X-WR-CALDESC:Eventi per Informacitta.net
REFRESH-INTERVAL;VALUE=DURATION:PT1H
X-Robots-Tag:noindex
X-PUBLISHED-TTL:PT1H
BEGIN:VTIMEZONE
TZID:Europe/Rome
BEGIN:DAYLIGHT
TZOFFSETFROM:+0100
TZOFFSETTO:+0200
TZNAME:CEST
DTSTART:20240331T010000
END:DAYLIGHT
BEGIN:STANDARD
TZOFFSETFROM:+0200
TZOFFSETTO:+0100
TZNAME:CET
DTSTART:20241027T010000
END:STANDARD
BEGIN:DAYLIGHT
TZOFFSETFROM:+0100
TZOFFSETTO:+0200
TZNAME:CEST
DTSTART:20250330T010000
END:DAYLIGHT
BEGIN:STANDARD
TZOFFSETFROM:+0200
TZOFFSETTO:+0100
TZNAME:CET
DTSTART:20251026T010000
END:STANDARD
BEGIN:DAYLIGHT
TZOFFSETFROM:+0100
TZOFFSETTO:+0200
TZNAME:CEST
DTSTART:20260329T010000
END:DAYLIGHT
BEGIN:STANDARD
TZOFFSETFROM:+0200
TZOFFSETTO:+0100
TZNAME:CET
DTSTART:20261025T010000
END:STANDARD
BEGIN:DAYLIGHT
TZOFFSETFROM:+0100
TZOFFSETTO:+0200
TZNAME:CEST
DTSTART:20270328T010000
END:DAYLIGHT
BEGIN:STANDARD
TZOFFSETFROM:+0200
TZOFFSETTO:+0100
TZNAME:CET
DTSTART:20271031T010000
END:STANDARD
END:VTIMEZONE
BEGIN:VEVENT
DTSTART;VALUE=DATE:20260319
DTEND;VALUE=DATE:20260329
DTSTAMP:20260421T202229
CREATED:20260306T161152Z
LAST-MODIFIED:20260306T161152Z
UID:33170-1773878400-1774742399@www.informacitta.net
SUMMARY:Florence Korea Film Fest
DESCRIPTION:Al Cinema La Compagnia torna il Florence Korea Film Fest\, che raggiunge la 24ª edizione con un programma dedicato alle nuove tendenze del cinema coreano. Per dieci giorni il festival propone anteprime nazionali\, retrospettive\, masterclass e incontri con protagonisti della scena cinematografica sudcoreana\, offrendo uno sguardo ampio sulla vitalità di una cinematografia sempre più influente a livello internazionale. \nIl programma include sezioni ormai consolidate come Orizzonti Coreani e K-Cinema Today\, dedicate alle produzioni contemporanee e al cinema indipendente\, insieme alla rassegna di cortometraggi Corto\, Corti!\, che mette in luce il lavoro dei giovani registi emergenti. Tra le novità anche la sezione Webtoon\, dedicata ai fumetti digitali e alle nuove forme di narrazione visiva nate online. \nTra gli ospiti principali figura l’attore Gong Yoo\, protagonista di una masterclass dedicata al lavoro dell’attore e celebrato con un omaggio alla carriera. Il festival ricorda anche i dieci anni di Train to Busan\, il film che ha rinnovato il genere zombie\, con la presenza del regista Yeon Sang-ho. A lui è dedicata una retrospettiva e una masterclass sul rapporto tra realismo e distopia nel suo cinema\, oltre all’anteprima del suo nuovo film The Ugly. Accanto ai grandi nomi\, il festival presenta numerose opere di autori emergenti e una selezione di film in anteprima che raccontano la varietà e l’evoluzione del cinema coreano contemporaneo. \n 
URL:https://www.informacitta.net/evento/florence-korea-film-fest/
LOCATION:Cinema La Compagnia\, Via Cavour\, 50\, Firenze\, Italy
CATEGORIES:Cinema,In primo piano
ATTACH;FMTTYPE=image/jpeg:https://www.informacitta.net/wp-content/uploads/2026/03/Poster-Ufficiale_Press_FKFF_2026-768x995-1-e1772813504733.jpg
END:VEVENT
BEGIN:VEVENT
DTSTART;VALUE=DATE:20251021
DTEND;VALUE=DATE:20260413
DTSTAMP:20260421T202229
CREATED:20251018T211253Z
LAST-MODIFIED:20260220T153048Z
UID:27763-1761004800-1776038399@www.informacitta.net
SUMMARY:Oceani
DESCRIPTION:Oltre 80 scatti raccontano la ricchezza e la vulnerabilità degli ecosistemi marini\, oggi sottoposti a pressioni crescenti tra cambiamento climatico\, inquinamento e sfruttamento intensivo delle risorse. La mostra dedicata a David Doubilet riunisce undici sale di immagini realizzate nei mari di tutto il mondo\, dai Caraibi alle Filippine\, dall’Indonesia all’Australia fino all’Antartide. Un itinerario visivo che documenta barriere coralline\, atolli e fondali remoti\, mettendo in evidenza la relazione stretta tra salute degli oceani e qualità della vita sul pianeta. \nCollaboratore storico di National Geographic e idealmente erede delle esplorazioni di Jacques-Yves Cousteau\, Doubilet è considerato uno dei principali interpreti della fotografia subacquea contemporanea. Insieme alla biologa marina e fotografa Jennifer Hayes\, svolge da decenni un lavoro di documentazione e divulgazione scientifica che coniuga rigore e forza narrativa. Tra le immagini esposte figurano la veduta aerea di un tratto della Grande Barriera Corallina australiana con un piccolo aereo in sorvolo\, il piccolo di tartaruga verde (Chelonia mydas) nella laguna di Nengo Nengo nella Polinesia Francese\, il pesce pappagallo arcobaleno (Scarus frenatus) al largo del Queensland e i coralli del Tubbataha Reef National Park\, composizioni naturali che assumono forme prossime all’astrazione. Un percorso che restituisce al mare la sua dimensione di spazio vitale e insieme fragile\, da osservare con attenzione prima ancora che con stupore. \n 
URL:https://www.informacitta.net/evento/oceani/
LOCATION:Villa Bardini\, Costa San Giorgio\, 2\, Firenze\, Firenze\, Italia
CATEGORIES:In primo piano,Mostre
ATTACH;FMTTYPE=image/webp:https://www.informacitta.net/wp-content/uploads/2025/10/oceani-e1771601436327.webp
END:VEVENT
END:VCALENDAR